BEGIN:VCALENDAR
VERSION:2.0
PRODID:-//Mundaneum - ECPv6.15.18//NONSGML v1.0//EN
CALSCALE:GREGORIAN
METHOD:PUBLISH
X-ORIGINAL-URL:https://mundaneum.org
X-WR-CALDESC:évènements pour Mundaneum
REFRESH-INTERVAL;VALUE=DURATION:PT1H
X-Robots-Tag:noindex
X-PUBLISHED-TTL:PT1H
BEGIN:VTIMEZONE
TZID:Europe/Brussels
BEGIN:DAYLIGHT
TZOFFSETFROM:+0100
TZOFFSETTO:+0200
TZNAME:CEST
DTSTART:20220327T010000
END:DAYLIGHT
BEGIN:STANDARD
TZOFFSETFROM:+0200
TZOFFSETTO:+0100
TZNAME:CET
DTSTART:20221030T010000
END:STANDARD
BEGIN:DAYLIGHT
TZOFFSETFROM:+0100
TZOFFSETTO:+0200
TZNAME:CEST
DTSTART:20230326T010000
END:DAYLIGHT
BEGIN:STANDARD
TZOFFSETFROM:+0200
TZOFFSETTO:+0100
TZNAME:CET
DTSTART:20231029T010000
END:STANDARD
BEGIN:DAYLIGHT
TZOFFSETFROM:+0100
TZOFFSETTO:+0200
TZNAME:CEST
DTSTART:20240331T010000
END:DAYLIGHT
BEGIN:STANDARD
TZOFFSETFROM:+0200
TZOFFSETTO:+0100
TZNAME:CET
DTSTART:20241027T010000
END:STANDARD
BEGIN:DAYLIGHT
TZOFFSETFROM:+0100
TZOFFSETTO:+0200
TZNAME:CEST
DTSTART:20250330T010000
END:DAYLIGHT
BEGIN:STANDARD
TZOFFSETFROM:+0200
TZOFFSETTO:+0100
TZNAME:CET
DTSTART:20251026T010000
END:STANDARD
BEGIN:DAYLIGHT
TZOFFSETFROM:+0100
TZOFFSETTO:+0200
TZNAME:CEST
DTSTART:20260329T010000
END:DAYLIGHT
BEGIN:STANDARD
TZOFFSETFROM:+0200
TZOFFSETTO:+0100
TZNAME:CET
DTSTART:20261025T010000
END:STANDARD
BEGIN:DAYLIGHT
TZOFFSETFROM:+0100
TZOFFSETTO:+0200
TZNAME:CEST
DTSTART:20270328T010000
END:DAYLIGHT
BEGIN:STANDARD
TZOFFSETFROM:+0200
TZOFFSETTO:+0100
TZNAME:CET
DTSTART:20271031T010000
END:STANDARD
BEGIN:DAYLIGHT
TZOFFSETFROM:+0100
TZOFFSETTO:+0200
TZNAME:CEST
DTSTART:20280326T010000
END:DAYLIGHT
BEGIN:STANDARD
TZOFFSETFROM:+0200
TZOFFSETTO:+0100
TZNAME:CET
DTSTART:20281029T010000
END:STANDARD
BEGIN:DAYLIGHT
TZOFFSETFROM:+0100
TZOFFSETTO:+0200
TZNAME:CEST
DTSTART:20290325T010000
END:DAYLIGHT
BEGIN:STANDARD
TZOFFSETFROM:+0200
TZOFFSETTO:+0100
TZNAME:CET
DTSTART:20291028T010000
END:STANDARD
BEGIN:DAYLIGHT
TZOFFSETFROM:+0100
TZOFFSETTO:+0200
TZNAME:CEST
DTSTART:20300331T010000
END:DAYLIGHT
BEGIN:STANDARD
TZOFFSETFROM:+0200
TZOFFSETTO:+0100
TZNAME:CET
DTSTART:20301027T010000
END:STANDARD
BEGIN:DAYLIGHT
TZOFFSETFROM:+0100
TZOFFSETTO:+0200
TZNAME:CEST
DTSTART:20310330T010000
END:DAYLIGHT
BEGIN:STANDARD
TZOFFSETFROM:+0200
TZOFFSETTO:+0100
TZNAME:CET
DTSTART:20311026T010000
END:STANDARD
END:VTIMEZONE
BEGIN:VTIMEZONE
TZID:America/New_York
BEGIN:DAYLIGHT
TZOFFSETFROM:-0500
TZOFFSETTO:-0400
TZNAME:EDT
DTSTART:20240310T070000
END:DAYLIGHT
BEGIN:STANDARD
TZOFFSETFROM:-0400
TZOFFSETTO:-0500
TZNAME:EST
DTSTART:20241103T060000
END:STANDARD
BEGIN:DAYLIGHT
TZOFFSETFROM:-0500
TZOFFSETTO:-0400
TZNAME:EDT
DTSTART:20250309T070000
END:DAYLIGHT
BEGIN:STANDARD
TZOFFSETFROM:-0400
TZOFFSETTO:-0500
TZNAME:EST
DTSTART:20251102T060000
END:STANDARD
BEGIN:DAYLIGHT
TZOFFSETFROM:-0500
TZOFFSETTO:-0400
TZNAME:EDT
DTSTART:20260308T070000
END:DAYLIGHT
BEGIN:STANDARD
TZOFFSETFROM:-0400
TZOFFSETTO:-0500
TZNAME:EST
DTSTART:20261101T060000
END:STANDARD
END:VTIMEZONE
BEGIN:VEVENT
DTSTART;TZID=Europe/Brussels:20230427T080000
DTEND;TZID=Europe/Brussels:20300430T080000
DTSTAMP:20260425T125338
CREATED:20240627T144911Z
LAST-MODIFIED:20240722T131851Z
UID:10000027-1682582400-1903766400@mundaneum.org
SUMMARY:Machine à penser le monde
DESCRIPTION:Exposition permanente\n\n\nPint of science à Mons\n\n\n\n\nDécouvrez l’exposition permanente sur l’histoire du Mundaneum !  \n\n\n\n\nRéserver des billets\n\n\n\n\n\n\n\n\n\nExposition  \n\n\n\npermanente \n\n\n\n\n\n\n\n\n\n\n\n1895\, la machine « Mundaneum » se met en route… \n\n\n\nÀ l’origine de ce projet humaniste et universaliste\, la conviction profonde que la paix dans le monde est possible grâce au classement et au partage des connaissances. \n\n\n\nDerrière ces idées incarnant une foi inébranlable dans le progrès et le savoir humain\, des hommes et des femmes au destin incroyable mais bien souvent oubliés : Paul Otlet\, reconnu comme l’un des pères d’Internet ; Henri La Fontaine\, prix Nobel de la Paix ; Léonie La Fontaine\, figure marquante du féminisme belge.  \n\n\n\n \n\n\n\nPendant des décennies\, le Mundaneum\, véritable laboratoire de réflexion sur le monde\, a abrité et incarné les rêves de visionnaires qui ont consacré leur vie entière au savoir\, aux sciences de l’information et de la documentation\, jusqu’ à imaginer un vrai moteur de recherche bien avant Internet. Ce projet novateur ouvrira la voie à bien des technologies qui font maintenant partie de notre quotidien à tous. \n\n\n\nQue reste-t-il aujourd’hui de cette aventure hors du commun ? Un patrimoine archivistique unique\, des valeurs universelles fortes et une vision utopique du monde\, toujours actuelle\, qui nous questionne tous en tant que citoyen et citoyenne.  \n\n\n\n \n\n\n\n \n\n\n\n\n\n\n\nCette nouvelle exposition permanente vous invite à comprendre cette formidable machine à penser le monde\, qui offre un éclairage intemporel sur nos questions de société.  \n\n\n\n \n\n\n\nAlors\, embarquez\, vous aussi\, dans ce voyage à travers le temps pour mieux comprendre le monde de demain. \n\n\n\n\n\n\n\n\n\n\n\n\n\n\n\n\n\n\n\n\n\n\n\n\n\n\n\n\n\n\n\n\n\n\n\n\n\n \n\n\n\nUne exposition soutenue par la Fédération-Wallonie Bruxelles\, Visit Wallonia\, La Loterie Nationale\, Google\, la gestion centre-ville Mons\, TéléMB et La Première- RTBF.
URL:https://mundaneum.org/activite/machineapenserlemonde/
LOCATION:Mundaneum\, Rue de Nimy 76\, Mons\, NY\, 7000
CATEGORIES:Expositions
ATTACH;FMTTYPE=image/png:https://mundaneum.org/wp-content/uploads/2024/06/MAPL-BannerEvent-2.png
END:VEVENT
BEGIN:VEVENT
DTSTART;TZID=Europe/Brussels:20250314T080000
DTEND;TZID=Europe/Brussels:20260524T180000
DTSTAMP:20260425T125338
CREATED:20250214T155246Z
LAST-MODIFIED:20251202T141808Z
UID:10000049-1741939200-1779645600@mundaneum.org
SUMMARY:Cités des possibles - Des utopies aux réalités de demain
DESCRIPTION:Pint of science à Mons\n\n\n\n\nProlongation jusqu’au 24 mai 2026 ! \n\n\n\n \n\n\n\n \n\n\n\n \n\n\n\n \n\n\n\n \n\n\n\n \n\n\n\n \n\n\n\n \n\n\n\n\nRéserver des billets\n\n\n\nOffre scolaire \n\n\n\n\n\n\n\n\n\nExposition  \n\n\n\ntemporaire \n\n\n\n\n\n\n\n\n\n\n\nPlongez dans un voyage captivant à travers les rêves\, les idéaux et les projets de cités idéales qui ont marqué l’histoire\, du 19e siècle à aujourd’hui. “Cité des possibles – Des utopies aux réalités de demain” invite les visiteurs à explorer les visions architecturales et humanistes qui ont façonné ces utopies\, tout en interrogeant leurs impacts sur notre société actuelle. De l’idée au développement\, des débats aux dérives\, l’exposition met en lumière les multiples facettes de ces projets\, à travers des documents et des dispositifs interactifs. \n\n\n\n \n\n\n\n \n\n\n\n \n\n\n\nPlan de la cité Mondiale – Stanislas Jasinski\n\n\n\nAu cœur de l’exposition\, le projet visionnaire de la Cité Mondiale imaginé par Paul Otlet\, cofondateur du Mundaneum. Ce pionnier rêvait d’un espace universel dédié à la connaissance et à la coopération internationale\, une ville pensée pour promouvoir la paix et le progrès. Avec l’aide de ses collaborateurs\, dont Henri et Léonie La Fontaine\, ainsi que des architectes de renom comme Le Corbusier\, il imaginait une cité rassemblant tous les savoirs intellectuels du monde\, un modèle de ville parfaite\, au-delà des frontières géographiques et idéologiques. Bien que la Cité Mondiale ne soit jamais devenue réalité\, elle demeure une source d’inspiration puissante et intemporelle. \n\n\n\n \n\n\n\n \n\n\n\n \n\n\n\n\nLa Cité radieuse\n\n\n\nChristiana\n\n\n\nMasdar City\n\n\n\nEarthscraper\n\n\n\n\nL’exposition explore également de nombreux autres projets\, passés et contemporains\, qui redéfinissent et repensent notre rapport au monde. Ces initiatives\, nées parfois dans des contextes très différents\, continuent de nous inspirer pour repenser la ville\, son organisation et ses fonctions afin de répondre aux défis de notre époque\, tels que la crise climatique\, les inégalités sociales\, ou encore les questions de mobilité. Certains de ces projets sont profondément influencés par des idéaux humanistes\, d’autres cherchent à concilier progrès architectural\, qualité de vie et durabilité. À travers ces exemples\, l’exposition s’interroge aussi sur les dérives et les obstacles politiques\, économiques ou sociaux qui ont entravé certaines de ces utopies\, transformant des rêves ambitieux en échecs ou en dystopies. \n\n\n\n \n\n\n\n“Cités des possibles – Des utopies aux réalités de demain” propose un parcours stimulant\, qui invite à rêver\, questionner et réinventer le futur de nos cités.  \n\n\n\n \n\n\n\nComment repenser nos façons d’habiter et de coexister dans un monde en mutation ? Quels enseignements pouvons-nous tirer de ces utopies pour relever les défis du vivre-ensemble aujourd’hui ? \n\n\n\n \n\n\n\nÀ travers ces réflexions\, l’exposition ouvre un dialogue entre passé et présent\, idéal et réalité\, et incite chacun à imaginer des solutions innovantes pour les espaces urbains de demain. \n\n\n\n \n\n\n\n \n\n\n\nAu Mundaneum \n\n\n\nVoir les horaires d’ouverture \n\n\n\n\n\n\n\n\n\n\n\n\n\n\n\n\n\n\n\n \n\n\n\nUne exposition présentée par le Mundaneum en partenariat avec le master Expographie-Muséographie Eco-responsable de l’Université d’Artois à Arras (FR).
URL:https://mundaneum.org/activite/cites-des-possibles-des-utopies-aux-realites-de-demain/
LOCATION:Mundaneum\, Rue de Nimy 76\, Mons\, NY\, 7000
CATEGORIES:Expositions
ATTACH;FMTTYPE=image/jpeg:https://mundaneum.org/wp-content/uploads/2025/02/Munda_Cites_afficheA3_DEF_2-scaled.jpg
END:VEVENT
BEGIN:VEVENT
DTSTART;TZID=America/New_York:20250515T180000
DTEND;TZID=America/New_York:20251116T180000
DTSTAMP:20260425T125338
CREATED:20250415T072848Z
LAST-MODIFIED:20250429T135842Z
UID:10000056-1747332000-1763316000@mundaneum.org
SUMMARY:Régénérer la ville｜Temps d’Archi #11 Utopies
DESCRIPTION:Installation – Gratuit\n\n\nPint of science à Mons\n\n\n\n\nUn partenariat avec l’ICA\, Institut Culturel d’Architecture Wallonie-Bruxelles dans le cadre du Temps d’Archi #11 Utopies \n\n\n\n\n\n\n\n\nConférence \n\n\n\ngratuite \n\n\n\n\n\n\n\n\n\n\n\n\n\n\n\nRégénérer la ville\n\n\n\nDu 16 mai au 16 novembre 2025\, dans la cour intérieure du Mundaneum\, l’ICA tente d’expérimenter ce que Régénérer la ville engage. À partir de briques de terracotta\, d’eau de pluie récupérée et de structures légères\, l’installation de Quentin Gérard et Guillaume Deman en association avec Réempro propose un îlot de fraîcheur tout en y insufflant une atmosphère conviviale. Elle offre une solution simple et low-tech pour répondre à un enjeu urbain (les chaleurs toujours plus fortes) qui touchent les habitant·es\, souvent précaires\, des villes.Cette exposition fait partie du Temps d’Archi #11 Utopies qui se déroule de mars à novembre 2025\, retrouvez toute la programmation ici.  \n\n\n\n \n\n\n\nLeur démarche : \n\n\n\nCe projet s’inscrit dans la démarche intitulée Make it Rain de Quentin Gérard et Guillaume Deman\, qui conçoivent des solutions low-tech éphèmères en terre cuite pour lutter contre les îlots de chaleur. Le principe est basé sur l’évaporation\, une technique ancienne familière des villes qui\, depuis toujours\, travaillent sur les questions de chaleur et de confort. Leurs installations urbaines s’implantent dans des zones les plus exposées à la chaleur\, sans raccordement aux réseaux (eau\, énergie)\, des espaces minéraux ou dépourvus d’aménagements paysagers. En plus d’abaisser la température de l’air\, elles permettent aux habitant·es de continuer à se réunir à l’extérieur autour d’un nouvel usage spécifique et adapté. \n\n\n\n\n\n\n\nAu-delà de l’effet rafraîchissant\, ces installations sont toujours en dialogue direct avec le territoire dans lequel elles s’implantent. Les ressources disponibles\, les énergies locales\, la durée de l’installation vont déterminer son design\, son architecture et sa double-fonction. \n\n\n\nIls ont réalisé deux installations : en 2024 à Logroño (Espagne)\, ils ont utilisé l’eau du fleuve\, en collaboration avec une association locale\, pour inviter les habitants à arroser un jardin de briques et rafraîchir ainsi l’espace. En 2023 à Bruxelles\, un réservoir d’eau de pluie et un robinet permettaient aux usagers de moduler eux-mêmes la température du lieu. Dans les deux cas\, les briques de terre cuite étaient issues d’entreprises locales\, et le système entier conçu pour être évolutif\, démontable et remontable. \n\n\n\n \n\n\n\nÀ Mons\, leur nouvelle installation qui sera spécialement conçue pour la cour du Mundaneum poussera encore plus loin cette réflexion\, en s’adaptant aux spécificités du site et en expérimentant de nouvelles façons de rafraîchir et d’habiter collectivement l’espace urbain. \n\n\n\n\nInscription à soirée d’ouverture
URL:https://mundaneum.org/activite/regenerer-la-ville%ef%bd%9ctemps-darchi-11-utopies/
LOCATION:Espace muséal
CATEGORIES:Expositions
ATTACH;FMTTYPE=image/jpeg:https://mundaneum.org/wp-content/uploads/2025/04/©-Quentin-Gerard-et-Guillaume-Deman_Make-it-rain_1-scaled.jpg
ORGANIZER;CN="Jewel Stark":MAILTO:jewel@stark-qa.evnt.is
END:VEVENT
END:VCALENDAR