BEGIN:VCALENDAR
VERSION:2.0
PRODID:-//Mundaneum - ECPv6.15.18//NONSGML v1.0//EN
CALSCALE:GREGORIAN
METHOD:PUBLISH
X-WR-CALNAME:Mundaneum
X-ORIGINAL-URL:https://mundaneum.org
X-WR-CALDESC:évènements pour Mundaneum
REFRESH-INTERVAL;VALUE=DURATION:PT1H
X-Robots-Tag:noindex
X-PUBLISHED-TTL:PT1H
BEGIN:VTIMEZONE
TZID:America/New_York
BEGIN:DAYLIGHT
TZOFFSETFROM:-0500
TZOFFSETTO:-0400
TZNAME:EDT
DTSTART:20240310T070000
END:DAYLIGHT
BEGIN:STANDARD
TZOFFSETFROM:-0400
TZOFFSETTO:-0500
TZNAME:EST
DTSTART:20241103T060000
END:STANDARD
BEGIN:DAYLIGHT
TZOFFSETFROM:-0500
TZOFFSETTO:-0400
TZNAME:EDT
DTSTART:20250309T070000
END:DAYLIGHT
BEGIN:STANDARD
TZOFFSETFROM:-0400
TZOFFSETTO:-0500
TZNAME:EST
DTSTART:20251102T060000
END:STANDARD
BEGIN:DAYLIGHT
TZOFFSETFROM:-0500
TZOFFSETTO:-0400
TZNAME:EDT
DTSTART:20260308T070000
END:DAYLIGHT
BEGIN:STANDARD
TZOFFSETFROM:-0400
TZOFFSETTO:-0500
TZNAME:EST
DTSTART:20261101T060000
END:STANDARD
END:VTIMEZONE
BEGIN:VEVENT
DTSTART;TZID=America/New_York:20251119T200000
DTEND;TZID=America/New_York:20251119T213000
DTSTAMP:20260422T092429
CREATED:20251020T125602Z
LAST-MODIFIED:20251022T101326Z
UID:10000066-1763582400-1763587800@mundaneum.org
SUMMARY:La cité à maillage polygonal - Luc Schuiten
DESCRIPTION:Conférence\n\n\nPint of science à Mons\n\n\n\n\n Une conférence gratuite organisée en collaboration avec le Mumons – Auditoire Van Gogh – Campus UMONS – Plaine de Nimy \n\n\n\n\nInscription \n\n\n\n\n\n\n\n\n\nConférence \n\n\n\nGratuite \n\n\n\n\n\n\n\n\n\n \n\n\n\nLa cité à maillage polygonal\, par Luc Schuiten\n\n\n\nLe Mundaneum et le MUMONS vous invite pour une conférence immersion dans l’univers de Luc Schuiten\, architecte visionnaire bruxellois. \n\n\n\nComme tout ce qui provient du vivant\, la cité se développe à partir d’une cellule originelle pour grandir jusqu’à une douzaine de cellules. Les voitures n’entrent jamais dans la cité. Le transport en commun est assuré par un tram modulaire circulant autour d’un boulevard périphérique. Alimenté en énergie par un rail électrique\, Il est constitué d’un convoi de petits modules pour 4 adultes. Chaque module est autonome\, il ne s’arrête que dans les voies de garage. La vitesse du parcours est particulièrement élevée par l’absence de carrefours et à la circulation ininterrompue\, jusqu’à sa destination finale. Le grand arbre central prend le modèle de l’arbre à palabres africain. Il est le lieu de la permadémocratie\, l’endroit où se prennent toutes les décisions concernant la cité.  \n\n\n\nÀ quoi ressemblera notre futur ?\n\n\n\nNous savons déjà qu’il ne pourra se construire dans la continuité de notre présent\, car les ressources planétaires s’épuisent bien plus vite que nous ne leur laissons le temps de se régénérer. L’architecte visionnaire Luc Schuiten\, estime que nous avons peut-être trop vite oublié que nous sommes avant tout des êtres biologiques installés sur une planète elle-même vivante. En réponse à cette réflexion\, il imagine des nouveaux lieux de vies\, conçus à partir de l’observation de vastes écosystèmes tels que les massifs coralliens ou les forêts primaires. A travers différentes  perspectives futuristes\, évoluant dans le temps\, un monde cohérent et poétique\, faisant appel à l’imaginaire se construit progressivement. Il suggère des solutions pour les transports publics et individuels de demain\, propose des habitats archiborescents\, et étudie le devenir de la ville de Lyon\, Strasbourg\, Bruxelles\, et Shanghai à l’horizon 2100. Ces visions d’un avenir positif se déclinent à travers la création d’une nouvelle relation entre l’homme et son environnement naturel. \n\n\n\n\n\n\n\nBio express — Qui est Luc Schuiten ?\n\n\n\nL’architecte visionnaire bruxellois\, Luc Schuiten\, imagine des nouveaux lieux de vies\, conçus à partir de l’observation de vastes écosystèmes tels que les massifs coralliens ou les forêts primaires. A travers différentes  perspectives futuristes\, évoluant dans le temps\, un monde cohérent et poétique se construit progressivement. \n\n\n\nIl suggère des solutions pour les transports publics et individuels de demain\, propose des formes d’habitat archiborescent réalisable immédiatement\, et étudie le devenir de la ville de Lyon\, Bruxelles\, et Sao-Paulo à l’horizon 2100. Ces visions d’un avenir positif se déclinent à travers la création d’une nouvelle relation entre l’homme et son environnement naturel. \n\n\n\nLuc Schuiten à choisi de communiquer ces concepts originaux par le mode d’expression picturale\, car il permet de manière efficace de faire rentrer les gens instantanément dans son imaginaire. Ces représentations originales d’un futur durable sont étayées par la collaboration étroite que l’artiste entretient avec les biologistes de l’association de Biomimicry Europa. \n\n\n\n \n\n\n\nPartenaire : Mumons \n\n\n\n\ninscription
URL:https://mundaneum.org/activite/la-cite-a-maillage-polygonal-luc-schuiten/
LOCATION:Espace muséal
CATEGORIES:Conférences,Expositions
ATTACH;FMTTYPE=image/jpeg:https://mundaneum.org/wp-content/uploads/2025/10/210-La-cite-a-maillage-hexagonal-scaled.jpg
ORGANIZER;CN="Jewel Stark":MAILTO:jewel@stark-qa.evnt.is
END:VEVENT
BEGIN:VEVENT
DTSTART;TZID=America/New_York:20251120T183000
DTEND;TZID=America/New_York:20251120T203000
DTSTAMP:20260422T092429
CREATED:20251002T094214Z
LAST-MODIFIED:20251114T153629Z
UID:10000064-1763663400-1763670600@mundaneum.org
SUMMARY:Enfants et écrans : pas de panique !
DESCRIPTION:Conférence\n\n\nPint of science à Mons\n\n\n\n\nUne conférence organisée par Action médias jeunes dans le cadre de la semains de l’éducation aux médias !  \n\n\n\n \n\n\n\n\n\n\n\n\nConférence \n\n\n\nGratuite \n\n\n\n\n\n\n\n\n\nEnfants et écrans : pas de panique ! – Conférence\n\n\n\n \n\n\n\n Conférence gratuite organisée par Action médias jeunes dans le cadre de la Semaine de l’Éducation Aux Médias du Conseil Supérieur de l’éducation aux médias – CSEM \n\n\n\n \n\n\n\nVous l’entendez ce bourdonnement médiatique\, fait de jugements\, de recommandations et d’injonctions quant à l’utilisation des écrans par les tout petit·e·s ? ! À écouter certains discours qui circulent sur les réseaux sociaux\, tout serait de la faute des écrans ! Difficile alors pour les adultes responsables de la petite enfance de ne pas céder à cette panique morale. \n\n\n\nOutre le fait de s’adapter aux pratiques des petits enfants qui\, vous vous en doutez\, ne sont pas les mêmes que celles des pré-ados et ados\, la conférence a pour spécificité de s’appuyer sur les avis de spécialistes en neurosciences et en santé mentale\, afin de « debunker » les mythes en circulation sur les risques liés aux écrans chez les jeunes enfants. \n\n\n\n \n\n\n\nObjectifs de la conférence :1. Permettre un dialogue intergénérationnel serein autour des écrans2. Proposer des pistes d’actions concrètes et échanger des bonnes pratiques pour aborder les écrans avec les plus jeunes3. Démystifier les idées reçues autour des écrans de manière à les dédramatiser et les relativiser \n\n\n\nInfos :* Quand : Jeudi 20 novembre 2025 de 18h30 à 20h30* Où : Mundaneum | Rue de Nimy\, 76 – 7000 Mons \n\n\n\n \n\n\n\n\ninscription
URL:https://mundaneum.org/activite/enfants-et-ecrans-pas-de-panique/
LOCATION:Espace muséal
CATEGORIES:Conférences
ATTACH;FMTTYPE=image/jpeg:https://mundaneum.org/wp-content/uploads/2025/10/556827169_122230388396122010_8715828651534415030_n.jpg
ORGANIZER;CN="Jewel Stark":MAILTO:jewel@stark-qa.evnt.is
END:VEVENT
BEGIN:VEVENT
DTSTART;TZID=America/New_York:20251121T183000
DTEND;TZID=America/New_York:20251121T203000
DTSTAMP:20260422T092429
CREATED:20251017T124807Z
LAST-MODIFIED:20251120T174814Z
UID:10000065-1763749800-1763757000@mundaneum.org
SUMMARY:Papotons Papotin !
DESCRIPTION:Conférence\n\n\nPint of science à Mons\n\n\n\n\nTable ronde avec Henri Poulain\, réalisateur de l’émission “Les Rencontres du Papotin” \n\n\n\n \n\n\n\n\n\n\n\n \n\n\n\n\n\n\n\n\n\n\n\n\nLe Club de la Presse du Hainaut-Mons vous donne rendez-vous le vendredi 21novembre 2025 au Mundaneum pour une soirée exceptionnelle autour del’émission culte Les Rencontres du Papotin\, diffusée sur France 2 et enBelgique sur Auvio (RTBF). \n\n\n\nUne émission pas comme les autres\n\n\n\nAnimée par Julien Bancilhon\, psychologue et rédacteur en chef du journal LePapotin\, cette émission bouleverse les codes de l’interview : une personnalitépublique répond aux questions libres\, sincères et souvent déstabilisantes dejournalistes porteurs d’un trouble du spectre autistique.Son ton juste\, son authenticité et la qualité de son regard sur la société en ontfait un véritable phénomène médiatique. \n\n\n\nInvité d’honneur : Henri Poulain\n\n\n\nLe réalisateur Henri Poulain\, co-créateur de Data Gueule et fondateur de lasociété de production StoryCircus\, viendra partager son expérience et lescoulisses de l’émission. \n\n\n\nAuteur de documentaires engagés tels que 2 degrés avant la fin du monde\,Invisibles – Les travailleurs du clic ou Utopie(s)?\, il défend une vision humanisteet exigeante des médias. \n\n\n\nUne table ronde : “Handicap & Médias”\n\n\n\nSous la modération de Delphine Jenart\, présidente du Club de la Presse duHainaut-Mons\, cette rencontre réunira :• Henri Poulain (Les Rencontres du Papotin)• Lara Kotlar (AVIQ)• Éric Willaye (Fondation SUSA)• Anne-Laure Macq (RTBF)• Brieuc Guffens (Média Animation)• ainsi qu’une personne en situation de handicap \n\n\n\nLes échanges aborderont : \n\n\n\n• La place du handicap dans les médias• Les coulisses et anecdotes du tournage des Rencontres du Papotin• L’approche singulière des journalistes du Papotin• Le rôle du documentaire dans la construction d’un récit inclusif• L’éducation aux médias comme levier d’inclusion et de citoyenneté \n\n\n\nDéroulé\n\n\n\n• 18h00 : Accueil du public• 18h30–19h00 : Rencontre avec Henri Poulain autour d’extraits del’émission• 19h00–20h15 : Table ronde “Handicap & Médias”• 20h15–20h30 : Questions – Réponses• 20h30 : Drink convivial (payant)\, servi par les bénéficiaires du SAPHA\,avec leur bière locale L’Handic \n\n\n\nTarifs\n\n\n\n• Gratuit : étudiant·es\, demandeurs·euses d’emploi\, personnes ensituation de handicap• 3 € : membres du Club de la Presse du Hainaut-Mons• 5 € : non-membres \n\n\n\nRéservation ci-dessous \n\n\n\nInfos : info@pressclubmons.be — +32 65 34 73 36 \n\n\n\nPartenaires : La Fondation SUSA\, l’AVIQ\, Le Mundaneum\, Média Animation\,Passe-Muraille\, Le SAPHA\, L’Umons.
URL:https://mundaneum.org/activite/papotons-papotin/
LOCATION:Espace muséal
CATEGORIES:Conférences
ATTACH;FMTTYPE=image/jpeg:https://mundaneum.org/wp-content/uploads/2025/10/1.jpg
ORGANIZER;CN="Jewel Stark":MAILTO:jewel@stark-qa.evnt.is
END:VEVENT
END:VCALENDAR