BEGIN:VCALENDAR
VERSION:2.0
PRODID:-//Mundaneum - ECPv6.15.18//NONSGML v1.0//EN
CALSCALE:GREGORIAN
METHOD:PUBLISH
X-ORIGINAL-URL:https://mundaneum.org
X-WR-CALDESC:évènements pour Mundaneum
REFRESH-INTERVAL;VALUE=DURATION:PT1H
X-Robots-Tag:noindex
X-PUBLISHED-TTL:PT1H
BEGIN:VTIMEZONE
TZID:America/New_York
BEGIN:DAYLIGHT
TZOFFSETFROM:-0500
TZOFFSETTO:-0400
TZNAME:EDT
DTSTART:20230312T070000
END:DAYLIGHT
BEGIN:STANDARD
TZOFFSETFROM:-0400
TZOFFSETTO:-0500
TZNAME:EST
DTSTART:20231105T060000
END:STANDARD
BEGIN:DAYLIGHT
TZOFFSETFROM:-0500
TZOFFSETTO:-0400
TZNAME:EDT
DTSTART:20240310T070000
END:DAYLIGHT
BEGIN:STANDARD
TZOFFSETFROM:-0400
TZOFFSETTO:-0500
TZNAME:EST
DTSTART:20241103T060000
END:STANDARD
BEGIN:DAYLIGHT
TZOFFSETFROM:-0500
TZOFFSETTO:-0400
TZNAME:EDT
DTSTART:20250309T070000
END:DAYLIGHT
BEGIN:STANDARD
TZOFFSETFROM:-0400
TZOFFSETTO:-0500
TZNAME:EST
DTSTART:20251102T060000
END:STANDARD
END:VTIMEZONE
BEGIN:VEVENT
DTSTART;TZID=America/New_York:20241022T120000
DTEND;TZID=America/New_York:20241022T140000
DTSTAMP:20260419T194615
CREATED:20240926T141752Z
LAST-MODIFIED:20240926T141754Z
UID:10000041-1729598400-1729605600@mundaneum.org
SUMMARY:Brussels\, where the web was born?
DESCRIPTION:Journées du Patrimoine 2024\n\n\nLe droit international peut-il être violé en toute impunité ?\n\n\n\n\nA lunch-discussion with Alex Wright (NY\, USA)\, facilitated by Delphine Jenart & Laurent Hublet \n\n\n\n\n\n\n\n\nThe Mundaneum \n\n\n\nback in Brussels ! \n\n\n\n\n\n\n\n\n\n\n\nBrussels\, where the web was born?\n\n\n\n \n\n\n\nKIKK\, Horizon 50-200 & Mundaneum partnering Wallonia-Brussels International\, ULB\, Beci\, Pilen and the Royal Museums of Art and History\, invite you to a journey to the origins of the world wide web to (re)discover this essential part of Belgian scientific and cultural heritage. \n\n\n\nDid you know that the Cinquantenaire in Brussels hosted the very first ancestor of the Internet? Established from 1910 to 1930 in the current “Auto World”\, the “Palais mondial – Mundaneum” was a World Center of Science and a Museum of knowledge. It was envisioned by its founders inspired by book sciences as the “Museum of the Future” that would ensure universal access to knowledge from around the world. \n\n\n\n80 years ago\, the Belgian Internet visionary Paul Otlet (1868-1944) passed away. Co-founder of the “Palais mondial – Mundaneum”\, now recognized as one of the early thinkers of the world wide web and modern information sciences\, its enterprise for knowledge fell into oblivion for more than half a century\, remembered only by a small coterie of library scientists and academic specialists. \n\n\n\nThat changed in June 2008\, when an investigation titled « The web that time forgot » was published in the New York Times. The article was written by a journalist named Alex Wright\, who came specifically from Brooklyn to discover the Mundaneum or what remained of this great Belgian cultural and scientific enterprise from the late 19th century. \n\n\n\nToday located in Mons\, the Mundaneum and its 6 km of archives are recognized as « Memory of the World Heritage » by UNESCO and « European Heritage Label » by European commission. \n\n\n\nThe talk will be facilitated by Laurent Hublet\, author of « Bruxelles mondiale\, from Paul Otlet to the Present Day » and Delphine Jenart\, project manager at KIKK. \n\n\n\n\n\n\n\n\n\n\n\n\n\n\n\n\n\n\nFree registration mandatory \n\n\n\n\n \n\n\n\nLunch foreseen – discussion in English.Access through the main entrance to the Royal Museums of Art and History located at 10\, Parc du Cinquantenaire\, Brussels \n\n\n\n\n\n\n\n\n\n\n\n \n\n\n\n\n\n\n\n\n\n\n\n \n\n\n\nAlex Wright (New-York\, USA) is a prominent figure in the field of User Experience design and research. He is known for his work as both an industry practitioner and historian of the networked ages. Wright has authored two books and more than 100 articles (NY Times\, The Atlantic\, Salon.com\, among others) that explore the intersection of technology\, culture\, and design\, including “Cataloging the world: Paul Otlet and the birth of the information age” (Oxford University Press\, 2014) and “Informatica: mastering information through the ages” (Cornell University Press\, 2023). His insights have influenced both practitioners and academics\, making him a respected voice in the tech community (SxSW\, O’Reilly\, Gartner Group conferences). He lives in Brooklyn\, NY\, and holds a PhD in Design from Carnegie Mellon University. \n\n\n\nOn the occasion of the visit to Belgium during the KIKK festival by Dr. Alex Wright (New-York\, USA)\, Horizon 50/200\, KIKK\, Mundaneum partnering Wallonia-Brussels International\, ULB\, Beci\, Pilen and the Royal Museums of Art and History\, invite you to a journey to the origins of the world wide web to (re)discover this essential part of the history of Belgium and our scientific and cultural heritage.
URL:https://mundaneum.org/activite/brussels-where-the-web-was-born/
CATEGORIES:Conférences,Expositions,Workshops
ATTACH;FMTTYPE=image/jpeg:https://mundaneum.org/wp-content/uploads/2024/09/banner-Del-web-born-not-world--scaled.jpg
ORGANIZER;CN="Jewel Stark":MAILTO:jewel@stark-qa.evnt.is
END:VEVENT
END:VCALENDAR