BEGIN:VCALENDAR
VERSION:2.0
PRODID:-//Mundaneum - ECPv6.15.18//NONSGML v1.0//EN
CALSCALE:GREGORIAN
METHOD:PUBLISH
X-ORIGINAL-URL:https://mundaneum.org/en/
X-WR-CALDESC:Events for Mundaneum
REFRESH-INTERVAL;VALUE=DURATION:PT1H
X-Robots-Tag:noindex
X-PUBLISHED-TTL:PT1H
BEGIN:VTIMEZONE
TZID:Europe/Brussels
BEGIN:DAYLIGHT
TZOFFSETFROM:+0100
TZOFFSETTO:+0200
TZNAME:CEST
DTSTART:20220327T010000
END:DAYLIGHT
BEGIN:STANDARD
TZOFFSETFROM:+0200
TZOFFSETTO:+0100
TZNAME:CET
DTSTART:20221030T010000
END:STANDARD
BEGIN:DAYLIGHT
TZOFFSETFROM:+0100
TZOFFSETTO:+0200
TZNAME:CEST
DTSTART:20230326T010000
END:DAYLIGHT
BEGIN:STANDARD
TZOFFSETFROM:+0200
TZOFFSETTO:+0100
TZNAME:CET
DTSTART:20231029T010000
END:STANDARD
BEGIN:DAYLIGHT
TZOFFSETFROM:+0100
TZOFFSETTO:+0200
TZNAME:CEST
DTSTART:20240331T010000
END:DAYLIGHT
BEGIN:STANDARD
TZOFFSETFROM:+0200
TZOFFSETTO:+0100
TZNAME:CET
DTSTART:20241027T010000
END:STANDARD
BEGIN:DAYLIGHT
TZOFFSETFROM:+0100
TZOFFSETTO:+0200
TZNAME:CEST
DTSTART:20250330T010000
END:DAYLIGHT
BEGIN:STANDARD
TZOFFSETFROM:+0200
TZOFFSETTO:+0100
TZNAME:CET
DTSTART:20251026T010000
END:STANDARD
BEGIN:DAYLIGHT
TZOFFSETFROM:+0100
TZOFFSETTO:+0200
TZNAME:CEST
DTSTART:20260329T010000
END:DAYLIGHT
BEGIN:STANDARD
TZOFFSETFROM:+0200
TZOFFSETTO:+0100
TZNAME:CET
DTSTART:20261025T010000
END:STANDARD
BEGIN:DAYLIGHT
TZOFFSETFROM:+0100
TZOFFSETTO:+0200
TZNAME:CEST
DTSTART:20270328T010000
END:DAYLIGHT
BEGIN:STANDARD
TZOFFSETFROM:+0200
TZOFFSETTO:+0100
TZNAME:CET
DTSTART:20271031T010000
END:STANDARD
BEGIN:DAYLIGHT
TZOFFSETFROM:+0100
TZOFFSETTO:+0200
TZNAME:CEST
DTSTART:20280326T010000
END:DAYLIGHT
BEGIN:STANDARD
TZOFFSETFROM:+0200
TZOFFSETTO:+0100
TZNAME:CET
DTSTART:20281029T010000
END:STANDARD
BEGIN:DAYLIGHT
TZOFFSETFROM:+0100
TZOFFSETTO:+0200
TZNAME:CEST
DTSTART:20290325T010000
END:DAYLIGHT
BEGIN:STANDARD
TZOFFSETFROM:+0200
TZOFFSETTO:+0100
TZNAME:CET
DTSTART:20291028T010000
END:STANDARD
BEGIN:DAYLIGHT
TZOFFSETFROM:+0100
TZOFFSETTO:+0200
TZNAME:CEST
DTSTART:20300331T010000
END:DAYLIGHT
BEGIN:STANDARD
TZOFFSETFROM:+0200
TZOFFSETTO:+0100
TZNAME:CET
DTSTART:20301027T010000
END:STANDARD
BEGIN:DAYLIGHT
TZOFFSETFROM:+0100
TZOFFSETTO:+0200
TZNAME:CEST
DTSTART:20310330T010000
END:DAYLIGHT
BEGIN:STANDARD
TZOFFSETFROM:+0200
TZOFFSETTO:+0100
TZNAME:CET
DTSTART:20311026T010000
END:STANDARD
END:VTIMEZONE
BEGIN:VEVENT
DTSTART;TZID=Europe/Brussels:20230427T080000
DTEND;TZID=Europe/Brussels:20300430T080000
DTSTAMP:20260422T134741
CREATED:20240627T144911Z
LAST-MODIFIED:20240627T145727Z
UID:10000028-1682582400-1903766400@mundaneum.org
SUMMARY:Mundaneum. Machine to think the world.
DESCRIPTION:Permanent exhibition\n\n\nCities with possibilities – From utopias to future realities\n\n\n\n\nDiscover the permanent exhibition on the history of the Mundaneum! \n\n\n\n\nRéserver des billets\n\n\n\n\n\n\n\n\n\nPermanent \n\n\n\nExhibition \n\n\n\n\n\n\n\n\n\n\n\n1895\, the Mundaneum machine takes off… \n\n\n\nAt the root of this humanist and universalist project is the deep conviction that peace in the world is possible thanks to the classification and sharing of knowledge. Behind these ideas\, which embody an unwavering belief in progress and human knowledge\,are men and women with incredible but often forgotten destinies: Paul Otlet\, recognised as one of the fathers of the internet; Henri La Fontaine\, winner of the Nobel Peace Prize; and Léonie La Fontaine\, a key figure of Belgian feminism. \n\n\n\nA veritable laboratory for thinking about the world\, the Mundaneum has for decades housed and embodied the dreams of visionaries who devoted their entire lives to knowledge\, information and documentation sciences\, right down to inventing a real search engine long before the internet. This innovative project paved the way for many of the technologies that are now part of our everyday lives. \n\n\n\nWhat remains today of this extraordinary adventure? A unique archival heritage\, strong universal values and a utopian vision of the world that is still relevant and questions all of us as citizens. \n\n\n\n \n\n\n\n \n\n\n\n \n\n\n\n\n\n\n\nCette nouvelle exposition permanente vous invite à comprendre cette  \n\n\n\nThis new permanent exhibition invites you to understand this formidable machine for thinking about the world\, which offers timeless insight into our social issues. \n\n\n\n \n\n\n\nSo take a journey through time to better understand the world of tomorrow.
URL:https://mundaneum.org/en/activite/mundaneum-machine-to-think-the-world/
LOCATION:Mundaneum\, Rue de Nimy 76\, Mons\, NY\, 7000
ATTACH;FMTTYPE=image/jpeg:https://mundaneum.org/wp-content/uploads/2024/06/EN-scaled.jpg
END:VEVENT
END:VCALENDAR