BEGIN:VCALENDAR
VERSION:2.0
PRODID:-//Mundaneum - ECPv6.15.18//NONSGML v1.0//EN
CALSCALE:GREGORIAN
METHOD:PUBLISH
X-WR-CALNAME:Mundaneum
X-ORIGINAL-URL:https://mundaneum.org/en/
X-WR-CALDESC:Events for Mundaneum
REFRESH-INTERVAL;VALUE=DURATION:PT1H
X-Robots-Tag:noindex
X-PUBLISHED-TTL:PT1H
BEGIN:VTIMEZONE
TZID:Europe/Brussels
BEGIN:DAYLIGHT
TZOFFSETFROM:+0100
TZOFFSETTO:+0200
TZNAME:CEST
DTSTART:20230326T010000
END:DAYLIGHT
BEGIN:STANDARD
TZOFFSETFROM:+0200
TZOFFSETTO:+0100
TZNAME:CET
DTSTART:20231029T010000
END:STANDARD
BEGIN:DAYLIGHT
TZOFFSETFROM:+0100
TZOFFSETTO:+0200
TZNAME:CEST
DTSTART:20240331T010000
END:DAYLIGHT
BEGIN:STANDARD
TZOFFSETFROM:+0200
TZOFFSETTO:+0100
TZNAME:CET
DTSTART:20241027T010000
END:STANDARD
BEGIN:DAYLIGHT
TZOFFSETFROM:+0100
TZOFFSETTO:+0200
TZNAME:CEST
DTSTART:20250330T010000
END:DAYLIGHT
BEGIN:STANDARD
TZOFFSETFROM:+0200
TZOFFSETTO:+0100
TZNAME:CET
DTSTART:20251026T010000
END:STANDARD
BEGIN:DAYLIGHT
TZOFFSETFROM:+0100
TZOFFSETTO:+0200
TZNAME:CEST
DTSTART:20260329T010000
END:DAYLIGHT
BEGIN:STANDARD
TZOFFSETFROM:+0200
TZOFFSETTO:+0100
TZNAME:CET
DTSTART:20261025T010000
END:STANDARD
BEGIN:DAYLIGHT
TZOFFSETFROM:+0100
TZOFFSETTO:+0200
TZNAME:CEST
DTSTART:20270328T010000
END:DAYLIGHT
BEGIN:STANDARD
TZOFFSETFROM:+0200
TZOFFSETTO:+0100
TZNAME:CET
DTSTART:20271031T010000
END:STANDARD
END:VTIMEZONE
BEGIN:VEVENT
DTSTART;TZID=Europe/Brussels:20250314T080000
DTEND;TZID=Europe/Brussels:20260524T180000
DTSTAMP:20260425T182039
CREATED:20250214T155246Z
LAST-MODIFIED:20250217T072438Z
UID:10000047-1741939200-1779645600@mundaneum.org
SUMMARY:Cities with possibilities - From utopias to future realities
DESCRIPTION:Cities with possibilities – From utopias to future realities\n\n\n\n\n \n\n\n\n\nTicket\n\n\n\n\n\n\n\n\n\ntemporary \n\n\n\n exhibition \n\n\n\n\n\n\n\n\n\n\n\nImmerse yourself in a fascinating journey through the dreams\, ideals and plans for ideal cities through history\, from the 19th century to the present day. “Cité des possibles – Des utopies aux réalités de demain” (Cities with possibilities – From utopias to future realities) invites visitors to explore the architectural and humanist visions that have shaped these utopias and ask questions about their impact on society today. From the idea to implementation\, from the debates to the diversions\, the exhibition showcases all of the different facets of these projects through documents and interactive exhibits. \n\n\n\n\n\n\n\n \n\n\n\nRight at the heart of the exhibition is the visionary project\, the Cité Mondiale or World City\, the brainchild of Paul Otlet\, who cofounded the Mundaneum. This pioneer dreamed of a universal space dedicated to knowledge and international cooperation\, a city designed to promote peace and progress. With the help of his colleagues\, including Henri La Fontaine\, as well as renowned architects like Le Corbusier\, he came up with the idea of a city housing all of the world’s intellectual knowledge\, a model city\, free from any geographical or ideological boundaries. While the World City never became a reality\, it is still a powerful\, timeless source of inspiration. \n\n\n\n \n\n\n\n\n\n\n\n\n\n\n\n\n\n\n\n\n\n\n\n\n\nThe exhibition also explores lots of other projects\, from the past and the present\, that redefine and rethink our relationship with the world. These initiatives\, sometimes born out of very different circumstances\, continue to inspire us with ways in which we can rethink the city\, how it is organised and how it functions\, in order to meet the challenges of our era\, from climate change to social inequality and issues relating to mobility. Some of these projects have been heavily influenced by humanist ideals\, while others strive to reconcile architectural progress\, quality of life and sustainability. Through these examples\, the exhibition also asks questions about the deviations and the political\, economical or social obstacles that have hindered some of these utopias\, transforming ambitious dreams into failures or dystopias. \n\n\n\n“Cité des possibles – Des utopies aux réalités de demain” is a fascinating journey that encourages you to dream\, to ask questions\, and to reinvent the future of our towns and cities. How can we rethink the way we live and coexist in a world that is constantly changing? What can we learn from these utopias if we want to tackle the challenges of successful coexistence today? By asking these questions\, the exhibition triggers a conversation between the past and the present\, the ideal and reality\, and encourages all of us to think of some innovative solutions for the urban spaces of the future. \n\n\n\nAn exhibition presented by the Mundaneum in partnership with the Masters course in Expographie-Muséographie at the University of Artois in Arras (France). \n\n\n\n\n\n\n\nAu Mundaneum
URL:https://mundaneum.org/en/activite/cities-with-possibilities-from-utopias-to-future-realities/
LOCATION:Mundaneum\, Rue de Nimy 76\, Mons\, NY\, 7000
ATTACH;FMTTYPE=image/jpeg:https://mundaneum.org/wp-content/uploads/2025/02/Munda_Cites_afficheA3_DEF_2-scaled.jpg
END:VEVENT
BEGIN:VEVENT
DTSTART;TZID=Europe/Brussels:20240127T080000
DTEND;TZID=Europe/Brussels:20250112T080000
DTSTAMP:20260425T182039
CREATED:20240627T121317Z
LAST-MODIFIED:20241218T083401Z
UID:10000025-1706342400-1736668800@mundaneum.org
SUMMARY:Fakeimages - UNMASK THE DANGERS OF STEREOTYPES
DESCRIPTION:Cities with possibilities – From utopias to future realities\n\n\n\n\n#Fakeimages\, an exhibition created by Kazerne Dossin in Mechelen\, encourages deconstructing these false representations and learning how to react to fake news and hate speech. \n\n\n\n\nRéserver des billets\n\n\n\n\n\n\n\n\n\ntijdelijke  \n\n\n\ntentoonstelling \n\n\n\n\n\n\n\n\n\n\n\nEvery day\, a multitude of messages and images reach us through various channels such as social media\, television\, and the press. Fake news\, misleading images\, and propaganda messages pollute our information flow\, often innocently\, but sometimes with more insidious intentions. What are the mechanisms that facilitate the transmission of these messages\, and why are we so susceptible to receiving them? \n\n\n\n \n\n\n\nThese stereotypical images\, conspiracy theories\, and fake news are sometimes used against specific communities. During the Second World War\, anti-Semitic propaganda led to an unprecedented genocide\, that of the Jewish people. Based on the collection of anti-Semitic images by Arthur Langerman\, a Belgian Holocaust survivor\, this exhibition aims to connect the past and the present. Its objective is to decode and explain the mechanisms of propaganda and false images\, encouraging visitors to question the stereotypes still present today. \n\n\n\n\n\n\n\n#Fakeimages\, an exhibition created by Kazerne Dossin in Mechelen\, encourages deconstructing these false representations and learning how to react to fake news and hate speech. Engaged for several years in raising awareness among young people about conspiracy theories\, fake news\, and source verification\, the Mundaneum continues the work of its founders Paul Otlet\, Henri La Fontaine\, and Léonie La Fontaine\, to document the world and share knowledge for the purpose of universal understanding. As a true laboratory of peace through knowledge\, the Mundaneum’s hosting of this exhibition is therefore in line with its history and the perpetuation of its universal\, pacifist\, and humanist values.  At the Mundaneum More info: www.fakeimages.be Teachers\, educators\, groups\, etc.: discover our educational offer. \n\n\n\n\n\n\n\n\n\n\n\n\n\n\n\n\n\n\n\n\n\n \n\n\n\n27.01.2024 > 08.12.2024\n\n\n\nAt the Mundaneum  \n\n\n\nMore info: www.fakeimages.be \n\n\n\nTeachers\, educators\, groups\, etc.: discover our : educationnal offer 
URL:https://mundaneum.org/en/activite/fakeimages-demasquez-les-dangers-des-stereotypes/
LOCATION:Mundaneum\, Rue de Nimy 76\, Mons\, NY\, 7000
ATTACH;FMTTYPE=image/png:https://mundaneum.org/wp-content/uploads/2024/06/Banner_web_prolongation-.png
END:VEVENT
END:VCALENDAR