BEGIN:VCALENDAR
VERSION:2.0
PRODID:-//Mundaneum - ECPv6.15.18//NONSGML v1.0//EN
CALSCALE:GREGORIAN
METHOD:PUBLISH
X-ORIGINAL-URL:https://mundaneum.org
X-WR-CALDESC:évènements pour Mundaneum
REFRESH-INTERVAL;VALUE=DURATION:PT1H
X-Robots-Tag:noindex
X-PUBLISHED-TTL:PT1H
BEGIN:VTIMEZONE
TZID:America/New_York
BEGIN:DAYLIGHT
TZOFFSETFROM:-0500
TZOFFSETTO:-0400
TZNAME:EDT
DTSTART:20230312T070000
END:DAYLIGHT
BEGIN:STANDARD
TZOFFSETFROM:-0400
TZOFFSETTO:-0500
TZNAME:EST
DTSTART:20231105T060000
END:STANDARD
BEGIN:DAYLIGHT
TZOFFSETFROM:-0500
TZOFFSETTO:-0400
TZNAME:EDT
DTSTART:20240310T070000
END:DAYLIGHT
BEGIN:STANDARD
TZOFFSETFROM:-0400
TZOFFSETTO:-0500
TZNAME:EST
DTSTART:20241103T060000
END:STANDARD
BEGIN:DAYLIGHT
TZOFFSETFROM:-0500
TZOFFSETTO:-0400
TZNAME:EDT
DTSTART:20250309T070000
END:DAYLIGHT
BEGIN:STANDARD
TZOFFSETFROM:-0400
TZOFFSETTO:-0500
TZNAME:EST
DTSTART:20251102T060000
END:STANDARD
BEGIN:DAYLIGHT
TZOFFSETFROM:-0500
TZOFFSETTO:-0400
TZNAME:EDT
DTSTART:20260308T070000
END:DAYLIGHT
BEGIN:STANDARD
TZOFFSETFROM:-0400
TZOFFSETTO:-0500
TZNAME:EST
DTSTART:20261101T060000
END:STANDARD
END:VTIMEZONE
BEGIN:VEVENT
DTSTART;TZID=America/New_York:20251020T090000
DTEND;TZID=America/New_York:20251024T160000
DTSTAMP:20260417T201811
CREATED:20250822T082705Z
LAST-MODIFIED:20250822T142739Z
UID:10000062-1760950800-1761321600@mundaneum.org
SUMMARY:Stage automne 2025
DESCRIPTION:8-12 ans\n\n\nEspace éducatif\n\n\n\n\nDeux mini-stages : création de papier et jeux collaboratifs !  \n\n\n\n\n\n\n\n\nPour les enfants  \n\n\n\nde 8-12 ans \n\n\n\n\n\n\n\n\n\n\n\n\n\n\n\nCréation de papier\n\n\n\n20 octobre au 22 octobre 2025 \n\n\n\nObjets décoratifs ou utiles\, viens apprendre à fabriquer du papier et à créer ta boîte à trésors\, ton carnet relié et de chouettes origamis. \n\n\n\n \n\n\n\n\nÂge : 8-12 ans\n\n\n\nPrix : 60€ (goûter compris)\n\n\n\nHoraire : 9h-16h (garderie 8h30 – 17h)\n\n\n\n\n \n\n\n\nJeux collaboratifs\n\n\n\n23 au 24 octobre 2025 \n\n\n\nS’associer pour gagner\, c’est fun ! Testons ensemble divers jeux et activités collaboratives\, et inventons ensemble notre jeu collaboratif. \n\n\n\n\nÂge : 8-12 ans\n\n\n\nPrix : 40€ (goûter compris)\n\n\n\nHoraire : 9h-16h (garderie 8h30 – 17h)\n\n\n\n\n \n\n\n\nSi l’enfant participe aux deux stages\, le prix est de 90€ \n\n\n\n\n\n\n\n\n\n\n\n\n\n\n\n\n\nInfos et réservationclara.louppe@mundaneum.be \n\n\n\n\nContacter Clara
URL:https://mundaneum.org/activite/stage-automne-2025/
LOCATION:Espace éducatif
CATEGORIES:Animations
ATTACH;FMTTYPE=image/jpeg:https://mundaneum.org/wp-content/uploads/2025/01/IMG_20241031_145800-scaled.jpg
ORGANIZER;CN="Jewel Stark":MAILTO:jewel@stark-qa.evnt.is
END:VEVENT
BEGIN:VEVENT
DTSTART;TZID=America/New_York:20250428T090000
DTEND;TZID=America/New_York:20250430T160000
DTSTAMP:20260417T201811
CREATED:20250320T135601Z
LAST-MODIFIED:20250320T135810Z
UID:10000055-1745830800-1746028800@mundaneum.org
SUMMARY:Stage- Habiter le monde
DESCRIPTION:7-12 ans\n\n\nEspace éducatif\n\n\n\n\nUn stage du Plaza Arthouse Cinema\, du Mundaneum et de l’ICA \n\n\n\n\n\n\n\n\nPour les enfants  \n\n\n\nde 7-12 ans \n\n\n\n\n\n\n\n\n\n\n\n\n\n\n\nDu 28 au 30 avril 2025\, rejoignez-nous pour 3 jours de stage pour rêver\, imaginer\, dessiner\, penser et construire le futur. \n\n\n\nLe Plaza Arthouse Cinema\, du Mundaneum et de l’ICA (Institut Culturel d’Architecture Wallonie-Bruxelles) s’associent pour aborder la notion d’habiter via l’imaginaire\, les visionnaires de notre monde\, les projets architecturaux\, le voyage et l’aventure. \n\n\n\nAu programme : Séances de cinéma\, visite de l’exposition Cités des possibles\, des utopies aux réalités de demain\, réflexion sur nos lieux de vie\, nos valeurs et nos besoins\, construction de son habitat idéal. Par le dessin\, la maquette et les échanges\, revisitons notre quartier\, inventons notre habitat du futur\, dessinons le monde de demain. \n\n\n\nInscrivez vos enfants pour qu’ils repartent avec des rêves plein la tête ! \n\n\n\nUn stage en partenariat avec le Plaza Arthouse Cinema\, du Mundaneum et de l’ICA. \n\n\n\n \n\n\n\nÂge : 7 – 12 ans \n\n\n\n \n\n\n\nHoraire :  9h – 16h (possibilité de garderie de 8h30 à 9h et de 16h à 17h au Mundaneum) \n\n\n\n \n\n\n\nPrix : 60€ (50€/pour le 2ème enfant de la même famille\, goûter compris) \n\n\n\nInscription via le plaza
URL:https://mundaneum.org/activite/stage-habiter-le-monde/
LOCATION:Espace éducatif
CATEGORIES:Animations
ATTACH;FMTTYPE=image/jpeg:https://mundaneum.org/wp-content/uploads/2025/01/IMG_20241031_145800-scaled.jpg
ORGANIZER;CN="Jewel Stark":MAILTO:jewel@stark-qa.evnt.is
END:VEVENT
BEGIN:VEVENT
DTSTART;TZID=America/New_York:20250224T090000
DTEND;TZID=America/New_York:20250228T160000
DTSTAMP:20260417T201811
CREATED:20250109T154949Z
LAST-MODIFIED:20250207T145445Z
UID:10000045-1740387600-1740758400@mundaneum.org
SUMMARY:Stage "Crée ton dessin animé !" - complet
DESCRIPTION:7-12 ans\n\n\nEspace éducatif\n\n\n\n\nUn stage en partenariat avec la Province de Hainaut \n\n\n\n\n\n\n\n\nPour les enfants  \n\n\n\nde 7-12 ans \n\n\n\n\n\n\n\n\n\n\n\n\n\n\n\nDu 24 au 28 février 2025\, rejoignez-nous pour 5 jours de stage inoubliables en partenariat avec la Province de Hainaut.  \n\n\n\n \n\n\n\nUne semaine de stage pour découvrir différentes technique d’animations d’images\, explorer les prémices des jeux d’optiques et du dessin animé avant de s’initier au stopmotion\, en vue de la réalisation d’une séquence animée animant des photos anciennes conservées dans le centre d’archives du Mundaneum et/ou de ses propres dessins. \n\n\n\n \n\n\n\n 5 journées de découvertes autour de la magie de l’image qui s’anime\, pour acquérir des techniques simples\, facilement reproductibles à la maison !  \n\n\n\n \n\n\n\nÂge : 7 – 12 ans \n\n\n\n \n\n\n\nHoraire :  9h – 16h (possibilité de garderie de 8h30 à 9h et de 16h à 17h) \n\n\n\nPrix : 95€ (75€/pour le 2ème enfant de la même famille) \, goûter compris \n\n\n\nInscription et réservation : clara.louppe@mundaneum.be \n\n\n\n\n\n\n\n\n\n\n\n\n\n\n\n\n\n \n\n\n\nCe stage est complet
URL:https://mundaneum.org/activite/stage-cree-ton-dessin-anime/
LOCATION:Espace éducatif
CATEGORIES:Animations
ATTACH;FMTTYPE=image/jpeg:https://mundaneum.org/wp-content/uploads/2025/01/IMG_20241031_145800-scaled.jpg
ORGANIZER;CN="Jewel Stark":MAILTO:jewel@stark-qa.evnt.is
END:VEVENT
BEGIN:VEVENT
DTSTART;TZID=America/New_York:20241028T090000
DTEND;TZID=America/New_York:20241031T160000
DTSTAMP:20260417T201811
CREATED:20240812T090110Z
LAST-MODIFIED:20240918T092948Z
UID:10000037-1730106000-1730390400@mundaneum.org
SUMMARY:Stage cinéma japonais et Kamishibaï - complet
DESCRIPTION:7-12 ans\n\n\nEspace éducatif\n\n\n\n\nUn stage du Plaza Arthouse Cinema et du Mundaneum \n\n\n\n\n\n\n\n\nPour les enfants  \n\n\n\nde 7-12 ans \n\n\n\n\n\n\n\n\n\n\n\n\n\n\n\nDu 28 au 31 octobre 2024\, rejoignez-nous pour 4 jours de stage inoubliables en partenariat avec le Mundaneum et le Plaza Arthouse Cinéma. 🌸 \n\n\n\nExplorez les traditions japonaises à travers le cinéma et découvrez le fascinant Kamishibaï\, ce petit théâtre de papier aux récits enchanteurs. Au programme : initiation aux techniques d’animation cinématographique\, ateliers de bricolage créatif\, et création de vos propres histoires !  \n\n\n\nInscrivez vos enfants pour qu’ils repartent avec plein d’histoires dans la tête !  \n\n\n\n \n\n\n\nÂge : 7 – 12 ans \n\n\n\n \n\n\n\nHoraire :  9h – 16h (possibilité de garderie de 8h30 à 9h et de 16h à 17h) \n\n\n\nPrix : 80€ (70€/pour le 2ème enfant de la même famille\, goûter compris \n\n\n\nInscription via le site du Plaza Arthouse Cinema  \n\n\n\n \n\n\n\n\n\n\n\n\n\n\n\n\n\n\n\n\n\nCe stage est complet
URL:https://mundaneum.org/activite/stage-cinema-japonais-et-kamishibai/
LOCATION:Espace éducatif
CATEGORIES:Animations
ATTACH;FMTTYPE=image/png:https://mundaneum.org/wp-content/uploads/2024/08/TOTO-STAGE.png
ORGANIZER;CN="Jewel Stark":MAILTO:jewel@stark-qa.evnt.is
END:VEVENT
BEGIN:VEVENT
DTSTART;TZID=America/New_York:20241012T140000
DTEND;TZID=America/New_York:20241012T160000
DTSTAMP:20260417T201811
CREATED:20240705T133359Z
LAST-MODIFIED:20241009T153756Z
UID:10000032-1728741600-1728748800@mundaneum.org
SUMMARY:"juif"? - Atelier
DESCRIPTION:La haine\, je dis non ! \n\n\nEspace éducatif\n\n\n\n\nUn atelier pour déconstruire les préjugés !  \n\n\n\n\n\n\n\n\nAtelier gratuit \n\n\n\n\n\n\n\n\n\n\n\nAtelier – visite : « juif »?\n\n\n\nVous souhaitez être mieux outillés pour faire face aux préjugés antisémites qui s’expriment au sein de votre classe ou votre groupe\, cet atelier est pour vous !  \n\n\n\nEnsemble nous déconstruirons ces préjugés en analysant leur origine\, nous retracerons l’histoire de l’antisémitisme et son évolution jusqu’à aujourd’hui et tenterons de mieux appréhender l’identité juive.   \n\n\n\nHoraire :  \n\n\n\n \n\n\n\n\n14h – 14h30 : Accueil / présentation de l’exposition FakeImages par l’équipe du Mundaneum\n\n\n\n14h30 – 16h : Atelier « Juif ? » atelier sur les stéréotypes antisémites par le CCLJ. \n\n\n\n\nThèmes abordés : stéréotypes et préjugés antisémitesAge : à partir de 15 ans \n\n\n\nGratuit : sur réservation ci-dessous \n\n\n\n \n\n\n\nL’atelier est annulé  \n\n\n\n \n\n\n\n\n\n\n\n\n\n\n\n\n\n\n\n\n\nUn atelier organisé dans le cadre de « La haine\, je dis NON ! » \n\n\n\nProgramme d’éducation à la citoyenneté du Centre Communautaire Laïc Juif David Susskind
URL:https://mundaneum.org/activite/juif-atelier/
LOCATION:Espace éducatif
CATEGORIES:Animations,Workshops
ATTACH;FMTTYPE=image/jpeg:https://mundaneum.org/wp-content/uploads/2024/07/fakeimage_vernissage-242-scaled.jpg
ORGANIZER;CN="Jewel Stark":MAILTO:jewel@stark-qa.evnt.is
END:VEVENT
BEGIN:VEVENT
DTSTART;TZID=America/New_York:20240715T090000
DTEND;TZID=America/New_York:20240719T163000
DTSTAMP:20260417T201811
CREATED:20240702T213405Z
LAST-MODIFIED:20240708T083118Z
UID:10000030-1721034000-1721406600@mundaneum.org
SUMMARY:Mini-stages enfants !
DESCRIPTION:8-12 ans\n\n\nEspace éducatif\n\n\n\n\nDeux mini-stages à découvrir ! Reliures&co et Dessine-moi la paix!  \n\n\n\n\n\n\n\n\nPour les enfants  \n\n\n\nde 8-12 ans \n\n\n\n\n\n\n\n\n\n\n\nReliures & co. – 15-16-17 juillet (3 jours)\n\n\n\nViens t’amuser et fabriquer des objets utiles et décoratifs via diverses techniques autour du fil et du Do it yourself. 3 journées de création pour repartir avec un carnet d’écriture\, un cadre customisé\, … Des objets à (s’)offrir et/ou à refaire à la maison. \n\n\n\nDessine-moi la paix – 18-19 juillet (2 jours)\n\n\n\nC’est quoi la paix ? Rejoins-nous pour rêver le monde. Ensemble\, prenons le temps de se partager nos rêves\, de dessiner le futur\, d’aborder la coopération et le vivre-ensemble. Deux journées pour exprimer sa créativité via l’écriture\, le collage\, le modelage et la fabrication d’origami… \n\n\n\nÂge : 8 – 12 ans \n\n\n\nPrix : 60€/3 jours ou 90€/5 jours si participation aux 2 mini-stages (goûter compris). \n\n\n\nHoraire : 9h-16h (garderie possible de 8h30 – 17h) \n\n\n\nInscription et infos : info@mundaneum.be \n\n\n\n\n\n\n\n\n\n\n\n\n\n\n\n\n\nCe stage est annulé.
URL:https://mundaneum.org/activite/mini-stages-enfants/
LOCATION:Espace éducatif
CATEGORIES:Animations
ATTACH;FMTTYPE=image/jpeg:https://mundaneum.org/wp-content/uploads/2024/07/448887189_982103590588103_5656047187102178335_n.jpg
ORGANIZER;CN="Jewel Stark":MAILTO:jewel@stark-qa.evnt.is
END:VEVENT
END:VCALENDAR